BEGIN:VCALENDAR
VERSION:2.0
PRODID:DPCALENDAR
CALSCALE:GREGORIAN
X-WR-TIMEZONE:UTC
BEGIN:VEVENT
DTSTART:20220128T090000Z
DTEND:20220128T153000Z
UID:b4e978fc922160599bed46bc71fd152d
SUMMARY:Utbildningsdag om könsdysfori och nyheter inom STI – Digitalt
DTSTAMP:20211013T094857Z
DESCRIPTION:Sektionen för Venereologi och Genitala Dermatoser välkomnar till en spännande utbildningsdag om könsdysfori och nyheter inom STI\NTid: Fredag den 28 januari 2022. Kl. 9-15.30 \NPlats:Via Zoom, länk skickas ut via mail.\NProgram: \N08.30 – 9.00                                 Registrering09.00 – 09.10                               Introduktion, Arne Wikström, dermatovenereolog, ordförande venereologisektionen, Stockholm09.10 – 10.00                               Utredning vid könsdysfori med Cecilia Dhejne, psykiater, Anova Stockholm10.00 – 10.30                               Paus10.30 – 11.20                               Hormonbehandling vid könsdysfori med Mats Holmberg, endokrinolog, Anova Stockholm11.25 – 12.15                               Könsbekräftande kirurgi med Antti Mikkola, plastikkirurg, Karolinska Solna12.15 – 13.15                               Lunchpaus13.15 – 13.45                               Nya STI-riktlinjer13.45 – 14.30                               Kraftig syfilisökning och hur går det med PrEP-mottagningen på Venhälsan med Finn Filén, infektionsläkare och dermatovenereolog, Venhälsan, Stockholm14.30 – 14.50                               Paus14.50 – 15.20                               STI under Covid-pandemin med Per Anders Mjörnberg, dermatovenereolog15.20 – 15.30                               Diskussion och avslutning, Arne Wikström, Stockholm\NPris: 1000 kr (700 kr för medlemmar). \NAnmälan 
X-ALT-DESC;FMTTYPE=text/html:<p><b>Sektionen för Venereologi och Genitala Dermatoser välkomnar&nbsp;<b>till en spännande utbildningsdag om könsdysfori och nyheter inom STI</b></b></p><p>Tid: Fredag den 28 januari 2022. Kl. 9-15.30&nbsp;</p><p>Plats:Via Zoom, länk skickas ut via mail.</p><p>Program:&nbsp;</p><p>08.30 – 9.00 &nbsp;&nbsp;&nbsp;&nbsp;&nbsp;&nbsp;&nbsp;&nbsp;&nbsp;&nbsp;&nbsp;&nbsp;&nbsp;&nbsp;&nbsp;&nbsp;&nbsp;&nbsp;&nbsp;&nbsp;&nbsp;&nbsp;&nbsp;&nbsp;&nbsp;&nbsp;&nbsp;&nbsp;&nbsp;&nbsp;&nbsp; Registrering<br />09.00 – 09.10&nbsp;&nbsp;&nbsp;&nbsp;&nbsp;&nbsp;&nbsp;&nbsp;&nbsp;&nbsp;&nbsp;&nbsp;&nbsp;&nbsp;&nbsp;&nbsp;&nbsp;&nbsp;&nbsp;&nbsp;&nbsp;&nbsp;&nbsp;&nbsp;&nbsp;&nbsp;&nbsp;&nbsp;&nbsp;&nbsp; Introduktion, Arne Wikström, dermatovenereolog, ordförande venereologisektionen, Stockholm<br />09.10 – 10.00&nbsp; &nbsp;&nbsp;&nbsp;&nbsp;&nbsp;&nbsp;&nbsp;&nbsp;&nbsp;&nbsp;&nbsp;&nbsp;&nbsp;&nbsp;&nbsp;&nbsp;&nbsp;&nbsp;&nbsp;&nbsp;&nbsp;&nbsp;&nbsp;&nbsp;&nbsp;&nbsp;&nbsp;&nbsp; Utredning vid könsdysfori med Cecilia Dhejne, psykiater, Anova Stockholm<br />10.00 – 10.30&nbsp; &nbsp;&nbsp;&nbsp;&nbsp;&nbsp;&nbsp;&nbsp;&nbsp;&nbsp;&nbsp;&nbsp;&nbsp;&nbsp;&nbsp;&nbsp;&nbsp;&nbsp;&nbsp;&nbsp;&nbsp;&nbsp;&nbsp;&nbsp;&nbsp;&nbsp;&nbsp;&nbsp;&nbsp; Paus<br />10.30 – 11.20&nbsp;&nbsp;&nbsp;&nbsp;&nbsp;&nbsp;&nbsp;&nbsp;&nbsp;&nbsp;&nbsp;&nbsp;&nbsp;&nbsp;&nbsp;&nbsp;&nbsp;&nbsp;&nbsp;&nbsp;&nbsp;&nbsp;&nbsp;&nbsp;&nbsp;&nbsp;&nbsp;&nbsp;&nbsp;&nbsp; Hormonbehandling vid könsdysfori med Mats Holmberg, endokrinolog, Anova Stockholm<br />11.25 – 12.15&nbsp; &nbsp; &nbsp; &nbsp; &nbsp; &nbsp; &nbsp; &nbsp; &nbsp; &nbsp; &nbsp; &nbsp; &nbsp; &nbsp; &nbsp; &nbsp;Könsbekräftande kirurgi med Antti Mikkola, plastikkirurg, Karolinska Solna<br />12.15 – 13.15&nbsp;&nbsp;&nbsp;&nbsp;&nbsp;&nbsp;&nbsp;&nbsp;&nbsp;&nbsp;&nbsp;&nbsp;&nbsp;&nbsp;&nbsp;&nbsp;&nbsp;&nbsp;&nbsp;&nbsp;&nbsp;&nbsp;&nbsp;&nbsp;&nbsp;&nbsp;&nbsp;&nbsp;&nbsp;&nbsp; Lunchpaus<br />13.15 – 13.45&nbsp; &nbsp;&nbsp;&nbsp;&nbsp;&nbsp;&nbsp;&nbsp;&nbsp;&nbsp;&nbsp;&nbsp;&nbsp;&nbsp;&nbsp;&nbsp;&nbsp;&nbsp;&nbsp;&nbsp;&nbsp;&nbsp;&nbsp;&nbsp;&nbsp;&nbsp;&nbsp;&nbsp;&nbsp; Nya STI-riktlinjer<br />13.45 – 14.30&nbsp; &nbsp;&nbsp;&nbsp;&nbsp;&nbsp;&nbsp;&nbsp;&nbsp;&nbsp;&nbsp;&nbsp;&nbsp;&nbsp;&nbsp;&nbsp;&nbsp;&nbsp;&nbsp;&nbsp;&nbsp;&nbsp;&nbsp;&nbsp;&nbsp;&nbsp;&nbsp;&nbsp;&nbsp; Kraftig syfilisökning och hur går det med PrEP-mottagningen på Venhälsan med Finn Filén, infektionsläkare och dermatovenereolog, Venhälsan, Stockholm<br />14.30 – 14.50&nbsp; &nbsp;&nbsp;&nbsp;&nbsp;&nbsp;&nbsp;&nbsp;&nbsp;&nbsp;&nbsp;&nbsp;&nbsp;&nbsp;&nbsp;&nbsp;&nbsp;&nbsp;&nbsp;&nbsp;&nbsp;&nbsp;&nbsp;&nbsp;&nbsp;&nbsp;&nbsp;&nbsp;&nbsp; Paus<br />14.50 – 15.20&nbsp; &nbsp;&nbsp;&nbsp;&nbsp;&nbsp;&nbsp;&nbsp;&nbsp;&nbsp;&nbsp;&nbsp;&nbsp;&nbsp;&nbsp;&nbsp;&nbsp;&nbsp;&nbsp;&nbsp;&nbsp;&nbsp;&nbsp;&nbsp;&nbsp;&nbsp;&nbsp;&nbsp;&nbsp; STI under Covid-pandemin med Per Anders Mjörnberg, dermatovenereolog<br />1<span style="-webkit-text-stroke-color: transparent;">5.20 – 15.30&nbsp;&nbsp;&nbsp;&nbsp;&nbsp;&nbsp;&nbsp;&nbsp;&nbsp;&nbsp;&nbsp;&nbsp;&nbsp;&nbsp;&nbsp;&nbsp;&nbsp;&nbsp;&nbsp;&nbsp;&nbsp;&nbsp;&nbsp;&nbsp;&nbsp;&nbsp;&nbsp;&nbsp;&nbsp;&nbsp; Diskussion och avslutning, Arne Wikström, Stockholm</span></p><p>Pris: 1000 kr (700 kr för medlemmar).&nbsp;</p><p><a href="images/anmalningsblankett_utbildningsdag_2022_ny.docx" target="_blank" rel="noopener noreferrer">Anmälan</a>&nbsp;</p>
X-ACCESS:1
X-MODIFIED:20211213T060420Z
X-HITS:2059
X-URL:
X-COLOR:
END:VEVENT
END:VCALENDAR