BEGIN:VCALENDAR
VERSION:2.0
PRODID:DPCALENDAR
CALSCALE:GREGORIAN
X-WR-TIMEZONE:UTC
BEGIN:VEVENT
DTSTART:20190326T130000Z
DTEND:20190326T170000Z
UID:5c0a660153ebfd2c3ff6586274e65bff
SUMMARY:Translationellt forskningsseminarium om Borreliainfektioner
DTSTAMP:20190315T153122Z
DESCRIPTION:Den 26 mars 2019 arrangerar Svenska Läkaresällskapets Forskningsdelegation i samarbete Anna J. Henningsson, ett Translationellt forskningsseminarium om Borreliainfektioner. Seminariet äger rum på Svenska Läkaresällskapet, Klara Östra Kyrkogata 10 i Stockholm klockan 13.00 – 17.00 med efterföljande mingel.\NAnna J. Henningsson, docent, infektionsläkare och klinisk mikrobiolog, Region Jönköpings län och Linköpings universitet är 2018 års mottagare av Läkaresällskapets Translationella pris som årligen delas ut för att belöna och uppmärksamma god medicinsk forskning av translationell karaktär.\NVarmt välkommen till seminariet! \NInbjudan, program och anmälan till seminariet finns på denna länk: https://invajo.com/l/2aFF1TEcft  \NVänliga hälsningarMonica\NMONICA WINDÉN\NAdministratör\NSVENSKA LÄKARESÄLLSKAPET\NTFN 08- 440 88 66ADRESS Klara Östra Kyrkogata 10, Box 738, 101 35 Stockholm
X-ALT-DESC;FMTTYPE=text/html:<p class="x_MsoNormal"><span style="-webkit-text-stroke-color: transparent;">Den 26 mars 2019 arrangerar Svenska Läkaresällskapets Forskningsdelegation i samarbete Anna J. Henningsson, ett Translationellt forskningsseminarium om Borreliainfektioner. Seminariet äger rum på Svenska Läkaresällskapet, Klara Östra Kyrkogata 10 i Stockholm klockan 13.00 – 17.00 med efterföljande mingel.</span></p><p>Anna J. Henningsson, docent, infektionsläkare och klinisk mikrobiolog, Region Jönköpings län och Linköpings universitet är 2018 års mottagare av Läkaresällskapets Translationella pris som årligen delas ut för att belöna och uppmärksamma god medicinsk forskning av translationell karaktär.</p><p class="x_MsoNormal"><b>Varmt välkommen till seminariet!&nbsp;</b></p><p>Inbjudan, program och anmälan till seminariet finns på denna länk:&nbsp;<a href="https://invajo.com/l/2aFF1TEcft" id="LPlnk669709" class="OWAAutoLink">https://invajo.com/l/2aFF1TEcft</a>&nbsp;&nbsp;</p><p class="x_MsoNormal">Vänliga hälsningar<br />Monica</p><p class="x_MsoNormal"><b>MONICA WINDÉN</b></p><p class="x_MsoNormal">Administratör</p><p class="x_MsoNormal"><b><br /></b><b>SVENSKA LÄKARESÄLLSKAPET</b></p><p class="x_MsoNormal"><b>TFN&nbsp;</b>08- 440 88 66<br /><b>ADRESS</b>&nbsp;Klara Östra Kyrkogata 10,&nbsp;<br />Box 738, 101 35 Stockholm</p>
LOCATION:Stockholm, Sweden
X-ACCESS:1
X-MODIFIED:20190315T153145Z
X-HITS:2275
X-URL:
X-COLOR:
END:VEVENT
END:VCALENDAR